Workbook

Sheet Costings
A1: Nutrients & Supplements | F1: A | G1: Cost Per kW Hour ($) | H1: 0.259 | M1: Water Used (L) | N1: =SUM(Useage!B2:B102)/1000 -> 231.612
A2: Item | B2: Price ($) | C2: Size (ml/g) | D2: Quantity Used (ml) | E2: Cost for grow ($) | F2: U | M2: Cost per kL ($) | N2: 1.0202
A3: FloraMicro | B3: 25 | C3: 946 | D3: =SUM(Useage!E2:E102) -> 134.7 | E3: =(D3/C3)*B3 -> 3.5597252 | F3: T | G3: Electrical - Germination | M3: Cost for grow ($) | N3: =(N1/1000)*N2 -> 0.23629056
A4: FloraGro | B4: 22.5 | C4: 946 | D4: =SUM(Useage!F2:F102) -> 137.5 | E4: =(D4/C4)*B4 -> 3.2703488 | F4: O | G4: Electrical Item | H4: Wattage | I4: Hours used per day | J4: Days Used | K4: Cost for grow ($)
A5: FloraBloom | B5: 56.18 | C5: 3800 | D5: =SUM(Useage!G2:G102) -> 65.5 | E5: =(D5/C5)*B5 -> 0.96836579 | G5: Heat Mat | H5: 30 | I5: 0 | J5: 0 | K5: =(H5/1000)*I5*J5*H1 -> 0 | M5: GROW TOAL ($) | N5: =E18+E28+D32+N3+K9+K18+K27+K34 -> 201.12508
A6: RapidStart | B6: 126 | C6: 500 | D6: =SUM(Useage!H2:H102) -> 64.1 | E6: =(D6/C6)*B6 -> 16.1532 | F6: T | G6: Exhaust Fan - Hyper 6" 315cfm | H6: 35 | I6: 24 | J6: 4 | K6: =(H6/1000)*I6*J6*H1 -> 0.87024 | M6: YIELD (g)
A7: Liquid KoolBloom | B7: 32.5 | C7: 946 | D7: =SUM(Useage!I2:I102) -> 0 | E7: =(D7/C7)*B7 -> 0 | F7: H | G7: Climate Controller | H7: 2 | I7: 24 | J7: 4 | K7: =(H7/1000)*I7*J7*H1 -> 0.049728 | M7: G per grow Watt | N7: =N6/H18 -> 0
A8: Floralicious Plus | B8: 38.5 | C8: 237 | D8: =SUM(Useage!J2:J102) -> 27.2 | E8: =(D8/C8)*B8 -> 4.4185654 | F8: C | G8: Light -T5 | H8: 18 | I8: 24 | J8: 4 | K8: =(H8/1000)*I8*J8*H1 -> 0.447552 | M8: $ per G | N8: =N5/N6 -> #DIV/0!
A9: FloraKleen | B9: 25 | C9: 946 | D9: =SUM(Useage!N2:N102) -> 0 | E9: =(D9/C9)*B9 -> 0 | G9: TOTAL | H9: =H5+H6+H7+H8 -> 85 | K9: =K5+K6+K7+K8 -> 1.36752
A10: Armor Si | B10: 29.5 | C10: 946 | D10: =SUM(Useage!C2:C102) -> 25.1 | E10: =(D10/C10)*B10 -> 0.7827167 | F10: B
A11: Diamond Nectar | B11: 26.5 | C11: 946 | D11: =SUM(Useage!K2:K102) -> 139.9 | E11: =(D11/C11)*B11 -> 3.9189746 | F11: O | G11: Electrical - Grow
A12: FloraBlend | B12: 25 | C12: 946 | D12: =SUM(Useage!L2:L102) -> 150.7 | E12: =(D12/C12)*B12 -> 3.9825581 | F12: M | G12: Electrical Item | H12: Wattage | I12: Hours used per day | J12: Days used | K12: Cost for grow ($)
A13: CALiMAGic | B13: 74.5 | C13: 3800 | D13: =SUM(Useage!D2:D102) -> 321 | E13: =(D13/C13)*B13 -> 6.2932895 | F13: B | G13: Light - 600W HPS | H13: 630 | I13: 24 | J13: 29 | K13: =(H13/1000)*I13*J13*H1 -> 113.56632
A14: FloraNectar (Pineapple Rush) | B14: 29.5 | C14: 946 | D14: =SUM(Useage!M2:M102) -> 6.6 | E14: =(D14/C14)*B14 -> 0.20581395 | G14: Exhaust Fan - Hyper 6" 315cfm | H14: 35 | I14: 24 | J14: 29 | K14: =(H14/1000)*I14*J14*H1 -> 6.30924
A15: Dry KoolBloom | B15: 51.45 | C15: 1000 | D15: 0 | E15: =(D15/C15)*B15 -> 0 | F15: 2 | G15: Air Circulation 1 - 6" clip on | H15: 20 | I15: 24 | J15: 29 | K15: =(H15/1000)*I15*J15*H1 -> 3.60528
A16: Terpinator | B16: 0 | C16: 1000 | D16: =SUM(Useage!O2:O102) -> 395.6 | E16: =(D16/C16)*B16 -> 0 | F16: 0 | G16: Air Circulation 2 - 6" clip on | H16: 20 | I16: 24 | J16: 29 | K16: =(H16/1000)*I16*J16*H1 -> 3.60528
A17: Great White Mychorrizae | B17: 62.95 | C17: 150 | D17: =SUM(Useage!P2:P102) -> 19.3 | E17: =(D17/C17)*B17 -> 8.0995667 | F17: 1 | G17: Climate Controller | H17: 2 | I17: 24 | J17: 29 | K17: =(H17/1000)*I17*J17*H1 -> 0.360528
A18: TOTAL | B18: =B3+B4+B5+B6+B7+B8+B9+B10+B11+B12+B13+B14+B16+B17 -> 573.63 | E18: =E3+E4+E5+E6+E7+E8+E9+E10+E11+E12+E13+E14+E16+E17 -> 51.653125 | F18: 8 | G18: TOTAL | H18: =H13+H14+H15+H16+H17 -> 707 | K18: =K13+K14+K15+K16+K17 -> 127.44665
A20: Consumables | G20: Electrical - Grow
A21: Item | B21: Price ($) | C21: Size (ml) | D21: Quantity Used (ml) | E21: Cost for grow ($) | G21: Electrical Item | H21: Wattage | I21: Hours used per day | J21: Days used | K21: Cost for grow ($)
A22: pH Up | B22: 7.5 | C22: 250 | D22: =SUM(Useage!Q2:Q102) -> 0 | E22: =(D22/C22)*B22 -> 0 | G22: Light - 600W HPS | H22: 630 | I22: 12 | J22: 1 | K22: =(H22/1000)*I22*J22*H1 -> 1.95804
A23: pH Down | B23: 7.95 | C23: 250 | D23: =SUM(Useage!R2:R102) -> 5.46 | E23: =(D23/C23)*B23 -> 0.173628 | G23: Exhaust Fan - Hyper 6" 315cfm | H23: 35 | I23: 24 | J23: 1 | K23: =(H23/1000)*I23*J23*H1 -> 0.21756
A24: pH Electrode Storage | B24: 8.5 | C24: 250 | D24: =SUM(Useage!T2:T102) -> 26.8 | E24: =(D24/C24)*B24 -> 0.9112 | G24: Air Circulation 1 - 6" clip on | H24: 20 | I24: 24 | J24: 1 | K24: =(H24/1000)*I24*J24*H1 -> 0.12432
A25: pH Buffer4.0 | B25: 7.5 | C25: 250 | D25: =SUM(Useage!U2:U102) -> 25 | E25: =(D25/C25)*B25 -> 0.75 | G25: Air Circulation 2 - 6" clip on | H25: 20 | I25: 24 | J25: 1 | K25: =(H25/1000)*I25*J25*H1 -> 0.12432
A26: pH Buffer 7.0 | B26: 7.5 | C26: 250 | D26: =SUM(Useage!V2:V102) -> 25 | E26: =(D26/C26)*B26 -> 0.75 | G26: Climate Controller | H26: 2 | I26: 24 | J26: 1 | K26: =(H26/1000)*I26*J26*H1 -> 0.012432
A27: Electrode Cleaner | B27: 9 | C27: 250 | D27: =SUM(Useage!S2:S102) -> 25 | E27: =(D27/C27)*B27 -> 0.9 | G27: TOTAL | H27: =H22+H23+H24+H25+H26 -> 707 | K27: =K22+K23+K24+K25+K26 -> 2.436672
A28: TOTAL | B28: =B22+B23+B24+B25+B26+B27 -> 47.95 | E28: =E22+E23+E24+E25+E26+E27 -> 3.484828
G29: Electrical - Drying
A30: Grow Medium | G30: Electrical Item | H30: Wattage | I30: Hours used per day | J30: Days Used | K30: Cost for grow ($)
A31: Item | B31: Price ($) | C31: Quantity | D31: Cost for grow ($) | G31: Exhaust Fan - Hyper 6" 315cfm | H31: 35 | I31: 24 | J31: 0 | K31: =(H31/1000)*I31*J31*H1 -> 0
A32: 5kg Nutrifield coco brick | B32: 14.5 | C32: 1 | D32: =B32*C32 -> 14.5 | G32: Air Circulation 1 - 6" clip on | H32: 20 | I32: 24 | J32: 0 | K32: =(H32/1000)*I32*J32*H1 -> 0
G33: Air Circulation 2 - 6" clip on | H33: 20 | I33: 24 | J33: 0 | K33: =(H33/1000)*I33*J33*H1 -> 0
G34: TOTAL | H34: =H31+H32+H33 -> 75 | K34: =K31+K32+K33 -> 0

Sheet Useage
A1: Date | B1: Water | C1: Armor Si | D1: CALiMAGic | E1: FloraMicro | F1: FloraGro | G1: FloraBloom | H1: RapidStart | I1: Liquid Koolbloom | J1: Floralicious Plus | K1: Diamond Nectar | L1: FloraBlend | M1: FloraNectar | N1: FloraKleen | O1: Terpinator | P1: Great White | Q1: pH UP | R1: pH Down | S1: Electrode Cleaner | T1: Electrode Storage | U1: 4.0 calibration | V1: 7.0 calibration
A2: 43163 | B2: 250 | S2: 25 | T2: 25.3 | U2: 25 | V2: 25
A3: 43164 | B3: 10
A4: 43165 | B4: 10
A5: 43166 | B5: 10
A6: 43167 | B6: 25000 | D6: 33
A7: 43167 | B7: 4004 | D7: 5.3 | E7: 1.1 | F7: 0.5 | G7: 0.5 | K7: 1.3 | L7: 2.6 | P7: 5
A8: 43168 | B8: 4
A9: 43169 | B9: 8004 | D9: 10.6 | E9: 2.1 | F9: 1.1 | G9: 1.1 | K9: 2.6 | L9: 5.3 | R9: 0.24
A10: 43170 | B10: 4 | T10: 0.3
A11: 43171 | B11: 8004 | D11: 10.6 | E11: 2.5 | F11: 1.3 | G11: 1.3 | K11: 3.2 | L11: 6.3
A12: 43172 | B12: 4
A13: 43173 | B13: 8004 | D13: 10.6 | E13: 3 | F13: 1.5 | G13: 1.5 | K13: 3.7 | L13: 7.4 | O13: 10 | R13: 0.18
A14: 43174 | B14: 4
A15: 43175 | B15: 7500 | C15: 0.5 | D15: 9.9 | E15: 4 | F15: 5 | G15: 1 | H15: 2.5 | J15: 1 | K15: 5 | L15: 5 | O15: 10 | R15: 0.18 | T15: 0.3
A16: 43176 | B16: 7500 | C16: 0.6 | D16: 9.9 | E16: 4.7 | F16: 5.9 | G16: 1.2 | H16: 3 | J16: 1.2 | K16: 5.9 | L16: 5.9 | O16: 10
A17: 43177 | B17: 4500 | C17: 0.4 | D17: 5.9 | E17: 3.3 | F17: 4.2 | G17: 0.8 | H17: 2.1 | J17: 0.8 | K17: 4.2 | L17: 4.2 | O17: 5
A18: 43178 | B18: 4500 | C18: 0.5 | D18: 5.9 | E18: 3.8 | F18: 4.7 | G18: 0.9 | H18: 2.4 | J18: 0.9 | K18: 4.7 | L18: 4.7 | O18: 5
A19: 43179 | B19: 4500 | C19: 0.5 | D19: 5.9 | E19: 4 | F19: 5 | G19: 1 | H19: 2.5 | J19: 1 | K19: 5 | L19: 5 | O19: 5 | R19: 0.06
A20: 43180 | B20: 6000 | C20: 0.7 | D20: 7.9 | E20: 5.4 | F20: 6.7 | G20: 1.3 | H20: 3.4 | J20: 1.3 | K20: 6.7 | L20: 6.7 | O20: 10
A21: 43181 | B21: 6000 | C21: 0.4 | D21: 7.9 | E21: 3.2 | F21: 4 | G21: 0.8 | H21: 2 | J21: 0.8 | K21: 4 | L21: 4 | O21: 10 | P21: 5 | R21: 0.06 | T21: 0.3
A22: 43182 | B22: 6000 | C22: 0.8 | D22: 7.9 | E22: 4 | F22: 4 | G22: 2 | H22: 2 | J22: 0.8 | K22: 4 | L22: 4 | O22: 10 | R22: 0.24
A23: 43183 | B23: 6000 | C23: 0.9 | D23: 7.9 | E23: 4.7 | F23: 4.7 | G23: 2.4 | H23: 2.4 | J23: 0.9 | K23: 4.7 | L23: 4.7 | O23: 10 | R23: 0.06
A24: 43184 | B24: 6500 | C24: 1.2 | D24: 8.6 | E24: 6 | F24: 6 | G24: 3 | H24: 3 | J24: 1.2 | K24: 6 | L24: 6 | O24: 8.6 | R24: 0.18
A25: 43185 | B25: 6500 | C25: 1.4 | D25: 8.6 | E25: 6.9 | F25: 6.9 | G25: 3.4 | H25: 3.4 | J25: 1.4 | K25: 6.9 | L25: 6.9 | O25: 8.6 | R25: 0.18
A26: 43186 | B26: 8000 | C26: 1.1 | D26: 10.6 | E26: 5.3 | F26: 5.3 | G26: 2.6 | H26: 2.6 | J26: 1.1 | K26: 5.3 | L26: 5.3 | O26: 10.6 | R26: 0.24
A27: 43187 | B27: 8000 | C27: 1.1 | D27: 10.6 | E27: 5.3 | F27: 5.3 | G27: 2.6 | H27: 2.6 | J27: 1.1 | K27: 5.3 | L27: 5.3 | O27: 10.6 | R27: 0.24
A28: 43188 | B28: 9000 | C28: 1.2 | D28: 11.9 | E28: 5.9 | F28: 5.9 | G28: 3 | H28: 3 | J28: 1.2 | K28: 5.9 | L28: 5.9 | O28: 11.9 | R28: 0.3 | T28: 0.3
A29: 43189 | B29: 10500 | C29: 1.4 | D29: 13.9 | E29: 6.9 | F29: 6.9 | G29: 3.5 | H29: 3.5 | J29: 1.4 | K29: 6.9 | L29: 6.9 | O29: 27.7 | R29: 0.12
A30: 43190 | B30: 11000 | C30: 1.2 | D30: 14.5 | E30: 5.8 | F30: 5.8 | G30: 2.9 | H30: 2.9 | J30: 1.2 | K30: 5.8 | L30: 5.8 | O30: 29 | R30: 0.42
A31: 43191 | B31: 11000 | C31: 1.2 | D31: 14.5 | E31: 5.8 | F31: 5.8 | G31: 2.9 | H31: 2.9 | J31: 1.2 | K31: 5.8 | L31: 5.8 | O31: 29 | R31: 0.48
A32: 43192 | B32: 12500 | C32: 1.3 | D32: 16.5 | E32: 6.6 | F32: 6.6 | G32: 3.3 | H32: 3.3 | J32: 1.3 | K32: 6.6 | L32: 6.6 | O32: 33 | R32: 0.42
A33: 43193 | B33: 12500 | C33: 1.3 | D33: 16.5 | E33: 6.6 | F33: 6.6 | G33: 3.3 | H33: 3.3 | J33: 1.3 | K33: 6.6 | L33: 6.6 | O33: 33 | R33: 0.42
A34: 43194 | B34: 13000 | C34: 1.7 | D34: 17.2 | E34: 8.6 | F34: 8.6 | G34: 4.3 | H34: 4.3 | J34: 1.7 | K34: 8.6 | L34: 8.6 | O34: 34.3 | R34: 0.48
A35: 43195 | B35: 1300 | C35: 1.7 | D35: 17.2 | E35: 8.6 | F35: 8.6 | G35: 4.3 | H35: 4.3 | J35: 1.7 | K35: 8.6 | L35: 8.6 | O35: 34.3 | P35: 9.3 | R35: 0.24
A36: 43196 | B36: 8000 | C36: 1.9 | D36: 10.6 | E36: 5.1 | F36: 5.1 | G36: 5.1 | H36: 1.3 | J36: 1.3 | K36: 3.2 | L36: 3.2 | M36: 3.2 | O36: 20 | R36: 0.3 | T36: 0.3
A37: 43197 | B37: 8000 | C37: 2.1 | D37: 10.6 | E37: 5.5 | F37: 5.5 | G37: 5.5 | H37: 1.4 | J37: 1.4 | K37: 3.4 | L37: 3.4 | M37: 3.4 | O37: 20 | R37: 0.42
A38: 43198
A39: 43199
A40: 43200
...

Sheet Grow Data
F1: PLANT #1 | N1: PLANT #2 | V1: PLANT #3
A2: Date | B2: Min Temp | C2: Max Temp | D2: Min Humidity | E2: Max Humidity | F2: pH In | G2: EC In | H2: pH Out | I2: EC Out | J2: Water In (ml) | K2: Water Out (ml) | L2: Drain % | M2: Plant height (cm) | N2: pH In | O2: EC In | P2: pH Out | Q2: EC Out | R2: Water In (ml) | S2: Water Out (ml) | T2: Drain % | U2: Plant Height (cm) | V2: pH In | W2: EC In | X2: pH Out | Y2: EC Out | Z2: Water In (ml) | AA2: Water Out (ml) | AB2: Drain % | AC2: Plant Height (cm)
A3: 43167 | F3: 6 | J3: 1000 | L3: =K3/J3*100 -> 0 | N3: 6 | R3: 1000 | T3: =S3/R3*100 -> 0 | V3: 6 | Z3: 1000 | AB3: =AA3/Z3*100 -> 0
A4: 43168 | J4: 0 | K4: 0 | L4: =K4/J4*100 -> #DIV/0! | R4: 0 | S4: 0 | T4: =S4/R4*100 -> #DIV/0! | Z4: 0 | AA4: 0 | AB4: =AA4/Z4*100 -> #DIV/0!
A5: 43169 | F5: 6 | J5: 2000 | L5: =K5/J5*100 -> 0 | N5: 6 | R5: 2000 | T5: =S5/R5*100 -> 0 | V5: 6 | Z5: 2000 | AB5: =AA5/Z5*100 -> 0
A6: 43170 | J6: 0 | K6: 0 | L6: =K6/J6*100 -> #DIV/0! | R6: 0 | S6: 0 | T6: =S6/R6*100 -> #DIV/0! | Z6: 0 | AA6: 0 | AB6: =AA6/Z6*100 -> #DIV/0!
A7: 43171 | F7: 6 | J7: 2000 | L7: =K7/J7*100 -> 0 | N7: 6 | R7: 2000 | T7: =S7/R7*100 -> 0 | V7: 6 | Z7: 2000 | AB7: =AA7/Z7*100 -> 0
A8: 43172 | J8: 0 | K8: 0 | L8: =K8/J8*100 -> #DIV/0! | R8: 0 | S8: 0 | T8: =S8/R8*100 -> #DIV/0! | Z8: 0 | AA8: 0 | AB8: =AA8/Z8*100 -> #DIV/0!
A9: 43173 | F9: 6 | J9: 2000 | L9: =K9/J9*100 -> 0 | N9: 6 | R9: 2000 | T9: =S9/R9*100 -> 0 | V9: 6 | Z9: 2000 | AB9: =AA9/Z9*100 -> 0
A10: 43174 | J10: 0 | K10: 0 | L10: =K10/J10*100 -> #DIV/0! | R10: 0 | S10: 0 | T10: =S10/R10*100 -> #DIV/0! | Z10: 0 | AA10: 0 | AB10: =AA10/Z10*100 -> #DIV/0!
A11: 43175 | F11: 6 | G11: 1.4 | I11: 1.5 | J11: 2500 | L11: =K11/J11*100 -> 0 | N11: 6 | O11: 1.4 | Q11: 1.5 | R11: 2500 | T11: =S11/R11*100 -> 0 | V11: 6 | W11: 1.4 | Y11: 1.4 | Z11: 2500 | AB11: =AA11/Z11*100 -> 0
A12: 43176 | B12: 22.3 | C12: 27.3 | D12: 41 | E12: 50 | F12: 6.1 | G12: 1.4 | H12: 5.9 | I12: 1.6 | J12: 2500 | K12: 1450 | L12: =K12/J12*100 -> 58 | N12: 6.1 | O12: 1.4 | P12: 5.9 | Q12: 1.5 | R12: 2500 | S12: 1700 | T12: =S12/R12*100 -> 68 | V12: 6.1 | W12: 1.4 | X12: 5.9 | Y12: 1.4 | Z12: 2500 | AA12: 1570 | AB12: =AA12/Z12*100 -> 62.8
A13: 43177 | B13: 23 | C13: 26.2 | D13: 30 | E13: 50 | F13: 6.1 | G13: 1.5 | H13: 6 | I13: 1.4 | J13: 1500 | K13: 780 | L13: =K13/J13*100 -> 52 | N13: 6.1 | O13: 1.5 | P13: 6 | Q13: 1.5 | R13: 1500 | S13: 940 | T13: =S13/R13*100 -> 62.666667 | V13: 6.1 | W13: 1.5 | X13: 5.9 | Y13: 1.4 | Z13: 1500 | AA13: 600 | AB13: =AA13/Z13*100 -> 40
A14: 43178 | B14: 21.9 | C14: 25.2 | D14: 26 | E14: 39 | F14: 6.1 | G14: 1.6 | H14: 6 | I14: 1.5 | J14: 1500 | K14: 620 | L14: =K14/J14*100 -> 41.333333 | M14: 14 | N14: 6.1 | O14: 1.6 | P14: 6.1 | Q14: 1.5 | R14: 1500 | S14: 680 | T14: =S14/R14*100 -> 45.333333 | U14: 11.5 | V14: 6.1 | W14: 1.6 | X14: 5.8 | Y14: 1.5 | Z14: 1500 | AA14: 550 | AB14: =AA14/Z14*100 -> 36.666667 | AC14: 11
A15: 43179 | B15: 21.6 | C15: 25.5 | D15: 27 | E15: 29 | F15: 5.8 | G15: 1.6 | H15: 6 | I15: 1.5 | J15: 1500 | K15: 360 | L15: =K15/J15*100 -> 24 | M15: 15.5 | N15: 5.8 | O15: 1.6 | P15: 5.8 | Q15: 1.7 | R15: 1500 | S15: 500 | T15: =S15/R15*100 -> 33.333333 | U15: 12.5 | V15: 5.8 | W15: 1.6 | X15: 6 | Y15: 1.5 | Z15: 1500 | AA15: 400 | AB15: =AA15/Z15*100 -> 26.666667 | AC15: 12.5
A16: 43180 | B16: 22.2 | C16: 25.2 | D16: 30 | E16: 33 | F16: 6.2 | G16: 1.7 | H16: 5.8 | I16: 1.7 | J16: 2000 | K16: 830 | L16: =K16/J16*100 -> 41.5 | M16: 19 | N16: 6.2 | O16: 1.7 | P16: 5.9 | Q16: 1.7 | R16: 2000 | S16: 950 | T16: =S16/R16*100 -> 47.5 | U16: 15 | V16: 6.2 | W16: 1.7 | X16: 6.1 | Y16: 1.8 | Z16: 2000 | AA16: 1025 | AB16: =AA16/Z16*100 -> 51.25 | AC16: 15
A17: 43181 | B17: 23.9 | C17: 25.9 | D17: 31 | E17: 38 | F17: 6.1 | G17: 1.5 | H17: 6.1 | I17: 1.9 | J17: 2000 | K17: 820 | L17: =K17/J17*100 -> 41 | M17: 20 | N17: 6.1 | O17: 1.5 | P17: 6.1 | Q17: 1.7 | R17: 2000 | S17: 775 | T17: =S17/R17*100 -> 38.75 | U17: 15 | V17: 6.1 | W17: 1.5 | X17: 6.1 | Y17: 1.8 | Z17: 2000 | AA17: 980 | AB17: =AA17/Z17*100 -> 49 | AC17: 15
A18: 43182 | B18: 21.1 | C18: 25.3 | D18: 36 | E18: 39 | F18: 5.9 | G18: 1.5 | H18: 6 | I18: 1.8 | J18: 2000 | K18: 650 | L18: =K18/J18*100 -> 32.5 | M18: 24 | N18: 5.9 | O18: 1.5 | P18: 5.9 | Q18: 1.8 | R18: 2000 | S18: 750 | T18: =S18/R18*100 -> 37.5 | U18: 17.5 | V18: 5.9 | W18: 1.5 | X18: 5.9 | Y18: 1.9 | Z18: 2000 | AA18: 900 | AB18: =AA18/Z18*100 -> 45 | AC18: 16.5
A19: 43183 | B19: 20.8 | C19: 25.3 | D19: 36 | E19: 46 | F19: 6.1 | G19: 1.6 | H19: 6 | I19: 1.8 | J19: 2000 | K19: 410 | L19: =K19/J19*100 -> 20.5 | M19: 26 | N19: 6.1 | O19: 1.6 | P19: 6.2 | Q19: 1.8 | R19: 2000 | S19: 670 | T19: =S19/R19*100 -> 33.5 | U19: 18 | V19: 6.1 | W19: 1.6 | X19: 6 | Y19: 1.9 | Z19: 2000 | AA19: 850 | AB19: =AA19/Z19*100 -> 42.5 | AC19: 18
A20: 43184 | B20: 19.2 | C20: 23 | D20: 38 | E20: 52 | F20: 5.9 | G20: 1.7 | H20: 6.1 | I20: 2 | J20: 2500 | K20: 900 | L20: =K20/J20*100 -> 36 | M20: 30.5 | N20: 5.9 | O20: 1.7 | P20: 6.1 | Q20: 1.9 | R20: 2000 | S20: 600 | T20: =S20/R20*100 -> 30 | U20: 22.5 | V20: 5.9 | W20: 1.7 | X20: 5.9 | Y20: 1.9 | Z20: 2000 | AA20: 875 | AB20: =AA20/Z20*100 -> 43.75 | AC20: 20
A21: 43185 | B21: 24.1 | C21: 26.5 | D21: 28 | E21: 36 | F21: 6 | G21: 1.8 | H21: 6.2 | I21: 2.3 | J21: 2500 | K21: 610 | L21: =K21/J21*100 -> 24.4 | M21: 37 | N21: 6 | O21: 1.8 | P21: 6 | Q21: 2 | R21: 2000 | S21: 400 | T21: =S21/R21*100 -> 20 | U21: 27 | V21: 6 | W21: 1.8 | X21: 5.8 | Y21: 2 | Z21: 2000 | AA21: 500 | AB21: =AA21/Z21*100 -> 25 | AC21: 23
A22: 43186 | B22: 24.1 | C22: 25.8 | D22: 28 | E22: 32 | F22: 6 | G22: 1.5 | H22: 6.2 | I22: 2.3 | J22: 3000 | K22: 1000 | L22: =K22/J22*100 -> 33.333333 | M22: 41 | N22: 6 | O22: 1.5 | P22: 6 | Q22: 2.5 | R22: 2500 | S22: 680 | T22: =S22/R22*100 -> 27.2 | U22: 28 | V22: 6 | W22: 1.5 | X22: 6.2 | Y22: 2.1 | Z22: 2500 | AA22: 1180 | AB22: =AA22/Z22*100 -> 47.2 | AC22: 25.5
A23: 43187 | B23: 21.1 | C23: 24.9 | D23: 29 | E23: 39 | F23: 6 | G23: 1.5 | H23: 6 | I23: 2.5 | J23: 3000 | K23: 800 | L23: =K23/J23*100 -> 26.666667 | M23: 45 | N23: 6 | O23: 1.5 | P23: 6.2 | Q23: 2.3 | R23: 2500 | S23: 400 | T23: =S23/R23*100 -> 16 | U23: 33 | V23: 6 | W23: 1.5 | X23: 5.8 | Y23: 2.3 | Z23: 2500 | AA23: 730 | AB23: =AA23/Z23*100 -> 29.2 | AC23: 29
A24: 43188 | B24: 23.5 | C24: 25.9 | D24: 34 | E24: 45 | F24: 6 | G24: 1.5 | H24: 6.4 | I24: 2.6 | J24: 3500 | K24: 975 | L24: =K24/J24*100 -> 27.857143 | M24: 50.5 | N24: 6 | O24: 1.5 | P24: 6.2 | Q24: 2.7 | R24: 3000 | S24: 590 | T24: =S24/R24*100 -> 19.666667 | U24: 38 | V24: 6 | W24: 1.5 | X24: 6.2 | Y24: 2.2 | Z24: 2500 | AA24: 450 | AB24: =AA24/Z24*100 -> 18 | AC24: 34
A25: 43189 | B25: 21.4 | C25: 24.6 | D25: 28 | E25: 38 | F25: 6 | G25: 1.6 | H25: 6.1 | I25: 2.5 | J25: 4000 | K25: 1220 | L25: =K25/J25*100 -> 30.5 | M25: 57 | N25: 6 | O25: 1.6 | P25: 6.1 | Q25: 2.7 | R25: 3500 | S25: 860 | T25: =S25/R25*100 -> 24.571429 | U25: 43 | V25: 6 | W25: 1.6 | X25: 6.1 | Y25: 2.3 | Z25: 3000 | AA25: 900 | AB25: =AA25/Z25*100 -> 30 | AC25: 41
... A31: 43195 | B31: 20.7 | C31: 26.8 | D31: 56 | E31: 80 | F31: 5.9 | G31: 1.5 | H31: 6.4 | I31: 1.4 | J31: 4500 | K31: 2160 | L31: =K31/J31*100 -> 48 | M31: 93 | N31: 5.9 | O31: 1.5 | P31: 6 | Q31: 1.5 | R31: 4500 | S31: 1700 | T31: =S31/R31*100 -> 37.777778 | U31: 86 | V31: 5.9 | W31: 1.5 | X31: 5.9 | Y31: 1.7 | Z31: 4000 | AA31: 1850 | AB31: =AA31/Z31*100 -> 46.25 | AC31: 68
A32: 43196 | B32: 19.4 | C32: 24.1 | D32: 42 | E32: 67 | J32: 0 | K32: 0 | L32: =K32/J32*100 -> #DIV/0! | M32: 0 | N32: 6 | O32: 1.6 | P32: 6.4 | Q32: 1.6 | R32: 4500 | S32: 875 | T32: =S32/R32*100 -> 19.444444 | U32: 88 | V32: 6 | W32: 1.6 | X32: 6.2 | Y32: 1.6 | Z32: 3500 | AA32: 2150 | AB32: =AA32/Z32*100 -> 61.428571 | AC32: 74
A33: 43197 | B33: 15.2 | C33: 23.7 | D33: 50 | E33: 73 | J33: 0 | K33: 0 | L33: =K33/J33*100 -> #DIV/0! | M33: 0 | N33: 5.9 | O33: 1.7 | P33: 6.3 | Q33: 1.5 | R33: 5000 | S33: 2775 | T33: =S33/R33*100 -> 55.5 | U33: 94 | V33: 5.9 | W33: 1.7 | X33: 6.3 | Y33: 1.5 | Z33: 3000 | AA33: 1110 | AB33: =AA33/Z33*100 -> 37 | AC33: 76
A34: 43198 | J34: 0 | K34: 0 | L34: =K34/J34*100 -> #DIV/0! | M34: 0 | R34: 3500 | T34: =S34/R34*100 -> 0 | Z34: 3000 | AB34: =AA34/Z34*100 -> 0
L35: =K35/J35*100 -> #DIV/0! | T35: =S35/R35*100 -> #DIV/0! | AB35: =AA35/Z35*100 -> #DIV/0!
L36: =K36/J36*100 -> #DIV/0! | T36: =S36/R36*100 -> #DIV/0! | AB36: =AA36/Z36*100 -> #DIV/0!
L37: =K37/J37*100 -> #DIV/0! | T37: =S37/R37*100 -> #DIV/0! | AB37: =AA37/Z37*100 -> #DIV/0!
L38: =K38/J38*100 -> #DIV/0! | T38: =S38/R38*100 -> #DIV/0! | AB38: =AA38/Z38*100 -> #DIV/0!
L39: =K39/J39*100 -> #DIV/0! | T39: =S39/R39*100 -> #DIV/0! | AB39: =AA39/Z39*100 -> #DIV/0!
L40: =K40/J40*100 -> #DIV/0! | T40: =S40/R40*100 -> #DIV/0! | AB40: =AA40/Z40*100 -> #DIV/0!
L41: =K41/J41*100 -> #DIV/0! | T41: =S41/R41*100 -> #DIV/0! | AB41: =AA41/Z41*100 -> #DIV/0!
L42: =K42/J42*100 -> #DIV/0! | T42: =S42/R42*100 -> #DIV/0! | AB42: =AA42/Z42*100 -> #DIV/0!
L43: =K43/J43*100 -> #DIV/0! | T43: =S43/R43*100 -> #DIV/0! | AB43: =AA43/Z43*100 -> #DIV/0!
L44: =K44/J44*100 -> #DIV/0! | T44: =S44/R44*100 -> #DIV/0! | AB44: =AA44/Z44*100 -> #DIV/0!
L45: =K45/J45*100 -> #DIV/0! | T45: =S45/R45*100 -> #DIV/0! | AB45: =AA45/Z45*100 -> #DIV/0!
...

Sheet Graphs
